{
 "currentVersion": 10.91,
 "cimVersion": "2.9.0",
 "serviceDescription": "Fond carte matrice graphique",
 "mapName": "FondCarteBlanc",
 "description": "Fond carte matrice graphique",
 "copyrightText": "Hors de l'usage auquel il est destiné, ce document n'a aucune portée légale.",
 "supportsDynamicLayers": true,
 "layers": [
  {
   "id": 0,
   "name": "Blanc",
   "parentLayerId": -1,
   "defaultVisibility": true,
   "subLayerIds": null,
   "minScale": 1155582,
   "maxScale": 288,
   "type": "Feature Layer",
   "geometryType": "esriGeometryPolygon",
   "supportsDynamicLegends": true
  }
 ],
 "tables": [],
 "spatialReference": {
  "wkid": 32190,
  "latestWkid": 32190,
  "xyTolerance": 0.001,
  "zTolerance": 0.001,
  "mTolerance": 0.001,
  "falseX": -5317800,
  "falseY": -10001100,
  "xyUnits": 4.503104285899046E8,
  "falseZ": -100000,
  "zUnits": 10000,
  "falseM": -100000,
  "mUnits": 10000
 },
 "singleFusedMapCache": true,
 "tileInfo": {
  "rows": 256,
  "cols": 256,
  "dpi": 96,
  "format": "MIXED",
  "compressionQuality": 75,
  "origin": {
   "x": -5317800,
   "y": 10001100
  },
  "spatialReference": {
   "wkid": 32190,
   "latestWkid": 32190,
   "xyTolerance": 0.001,
   "zTolerance": 0.001,
   "mTolerance": 0.001,
   "falseX": -5317800,
   "falseY": -10001100,
   "xyUnits": 4.503104285899046E8,
   "falseZ": -100000,
   "zUnits": 10000,
   "falseM": -100000,
   "mUnits": 10000
  },
  "lods": [
   {
    "level": 0,
    "resolution": 305.7480844128355,
    "scale": 1155581
   },
   {
    "level": 1,
    "resolution": 152.874174498349,
    "scale": 577791
   },
   {
    "level": 2,
    "resolution": 76.43695495724326,
    "scale": 288895
   },
   {
    "level": 3,
    "resolution": 38.218609770552874,
    "scale": 144448
   },
   {
    "level": 4,
    "resolution": 19.109304885276437,
    "scale": 72224
   },
   {
    "level": 5,
    "resolution": 9.554652442638218,
    "scale": 36112
   },
   {
    "level": 6,
    "resolution": 4.777326221319109,
    "scale": 18056
   },
   {
    "level": 7,
    "resolution": 2.3886631106595546,
    "scale": 9028
   },
   {
    "level": 8,
    "resolution": 1.1943315553297773,
    "scale": 4514
   },
   {
    "level": 9,
    "resolution": 0.5971657776648887,
    "scale": 2257
   },
   {
    "level": 10,
    "resolution": 0.2984505969011938,
    "scale": 1128
   },
   {
    "level": 11,
    "resolution": 0.1492252984505969,
    "scale": 564
   },
   {
    "level": 12,
    "resolution": 0.07461264922529845,
    "scale": 282
   }
  ]
 },
 "storageInfo": {
  "storageFormat": "esriMapCacheStorageModeCompactV2",
  "packetSize": 128
 },
 "initialExtent": {
  "xmin": 290952.1272782595,
  "ymin": 5280199.592686826,
  "xmax": 413299.6123217405,
  "ymax": 5387124.036713174,
  "spatialReference": {
   "wkid": 32190,
   "latestWkid": 32190,
   "xyTolerance": 0.001,
   "zTolerance": 0.001,
   "mTolerance": 0.001,
   "falseX": -5317800,
   "falseY": -10001100,
   "xyUnits": 4.503104285899046E8,
   "falseZ": -100000,
   "zUnits": 10000,
   "falseM": -100000,
   "mUnits": 10000
  }
 },
 "fullExtent": {
  "xmin": 303483.62009999994,
  "ymin": 5285153.0099,
  "xmax": 400768.11950000003,
  "ymax": 5382170.6195,
  "spatialReference": {
   "wkid": 32190,
   "latestWkid": 32190,
   "xyTolerance": 0.001,
   "zTolerance": 0.001,
   "mTolerance": 0.001,
   "falseX": -5317800,
   "falseY": -10001100,
   "xyUnits": 4.503104285899046E8,
   "falseZ": -100000,
   "zUnits": 10000,
   "falseM": -100000,
   "mUnits": 10000
  }
 },
 "datesInUnknownTimezone": false,
 "minScale": 1155581,
 "maxScale": 1155581,
 "minLOD": 0,
 "maxLOD": 0,
 "units": "esriMeters",
 "supportedImageFormatTypes": "PNG32,PNG24,PNG,JPG,DIB,TIFF,EMF,PS,PDF,GIF,SVG,SVGZ,BMP",
 "documentInfo": {
  "Title": "Fond carte matrice graphique",
  "Author": "",
  "Comments": "Fond carte matrice graphique",
  "Subject": "Fond carte matrice graphique",
  "Category": "",
  "AntialiasingMode": "None",
  "TextAntialiasingMode": "Force",
  "Version": "2.9.0",
  "Keywords": "Fond carte matrice graphique"
 },
 "supportsQueryDomains": true,
 "capabilities": "Map",
 "supportedQueryFormats": "JSON, geoJSON, PBF",
 "exportTilesAllowed": false,
 "referenceScale": 0.0,
 "supportsDatumTransformation": true,
 "archivingInfo": {
  "supportsHistoricMoment": false
 },
 "supportsClipping": true,
 "supportsSpatialFilter": true,
 "supportsTimeRelation": true,
 "supportsQueryDataElements": true,
 "maxRecordCount": 2000,
 "maxImageHeight": 4096,
 "maxImageWidth": 4096,
 "supportedExtensions": "",
 "serviceItemId": "6030efeaa6094fa3b10f316fa9b93d45"
}
